BEGIN:VCALENDAR
VERSION:2.0
PRODID:-//wp-events-plugin.com//7.2.3.1//EN
TZID:Europe/Paris
X-WR-TIMEZONE:Europe/Paris
BEGIN:VEVENT
UID:63@harmoniesvdp.fr
DTSTART;TZID=Europe/Paris:20260705T120000
DTEND;TZID=Europe/Paris:20260705T140000
DTSTAMP:20260420T083022Z
URL:https://www.harmoniesvdp.fr/evenements/fetes-de-st-vincent-de-paul/
SUMMARY:Fêtes de St Vincent de Paul
DESCRIPTION:Animation Apéritif
END:VEVENT
BEGIN:VTIMEZONE
TZID:Europe/Paris
X-LIC-LOCATION:Europe/Paris
BEGIN:DAYLIGHT
DTSTART:20260329T030000
TZOFFSETFROM:+0100
TZOFFSETTO:+0200
TZNAME:CEST
END:DAYLIGHT
END:VTIMEZONE
END:VCALENDAR