BEGIN:VCALENDAR
VERSION:2.0
PRODID:-//wp-events-plugin.com//7.2.3.1//EN
TZID:Europe/Paris
X-WR-TIMEZONE:Europe/Paris
BEGIN:VEVENT
UID:59@harmoniesvdp.fr
DTSTART;TZID=Europe/Paris:20261024T120000
DTEND;TZID=Europe/Paris:20261024T140000
DTSTAMP:20260327T175620Z
URL:https://www.harmoniesvdp.fr/evenements/animation-aperitif-tapas-a-belu
 s/
SUMMARY:Animation Apéritif Tapas à Bélus
DESCRIPTION:
END:VEVENT
BEGIN:VTIMEZONE
TZID:Europe/Paris
X-LIC-LOCATION:Europe/Paris
BEGIN:DAYLIGHT
DTSTART:20260329T030000
TZOFFSETFROM:+0100
TZOFFSETTO:+0200
TZNAME:CEST
END:DAYLIGHT
END:VTIMEZONE
END:VCALENDAR